BEGIN:VCALENDAR
VERSION:2.0
PRODID:-//Microsoft Corporation//Outlook 12.0 MIMEDIR//EN
TZID:(GMT+0100) FLE\, normaltid
BEGIN:VEVENT
DTSTART:20230625T170000
DTEND:20230625T200000
LOCATION:Synagoga Radnice, Na Potocích 221, Rokycany
SUMMARY:LC Rokycany - Koncert komorní hudby
DESCRIPTION:LC Rokycany ve spolupráci s Ekocentrem ČSOP v Radnicích a Múzickou kavárnou a restaurací La Boema
Vás co nejsrdečněji zvou na koncert komorní hudby s mladou ukrajinskou klavírní nadějí Katerynou Druziak. https://www.lci-d122.org/rokycany/aktuality/koncert-komorni-hudby/
END:VEVENT
END:VCALENDAR
