BEGIN:VCALENDAR
VERSION:2.0
PRODID:-//Microsoft Corporation//Outlook 12.0 MIMEDIR//EN
TZID:(GMT+0100) FLE\, normaltid
BEGIN:VEVENT
DTSTART:20260523T130000
DTEND:20260523T170000
LOCATION:Náplavka na Radbuze
SUMMARY:Plzeňská kachna aneb Děti pro děti
DESCRIPTION: https://www.lci-d122.org/plzenbohemia/aktuality/plzenska-kachna-aneb-deti-pro-deti/
END:VEVENT
END:VCALENDAR
